BEGIN:VCALENDAR
PRODID:-//Microsoft Corporation//Outlook 16.0 MIMEDIR//EN
VERSION:2.0
METHOD:REQUEST
X-MS-OLK-FORCEINSPECTOROPEN:TRUE
BEGIN:VTIMEZONE
TZID:Central Standard Time
BEGIN:STANDARD
DTSTART:16011104T020000
RRULE:FREQ=YEARLY;BYDAY=1SU;BYMONTH=11
TZOFFSETFROM:-0500
TZOFFSETTO:-0600
END:STANDARD
BEGIN:DAYLIGHT
DTSTART:16010311T020000
RRULE:FREQ=YEARLY;BYDAY=2SU;BYMONTH=3
TZOFFSETFROM:-0600
TZOFFSETTO:-0500
END:DAYLIGHT
END:VTIMEZONE
BEGIN:VEVENT
ATTENDEE;CN="Rose, Ryan (US)";RSVP=TRUE:mailto:ryan.rose@baesystems.us
ATTENDEE;CN="Wyle, Shari R (US)";RSVP=TRUE:mailto:shari.wyle@baesystems.us
ATTENDEE;CN="Foster, Suzanne (US)";RSVP=TRUE:mailto:suzanne.foster@baesyste
	ms.us
CLASS:PUBLIC
CREATED:20260311T131421Z
DESCRIPTION:Please join if you have any questions about onboarding your com
	pany’s profile in ivalua and we’ll help you answer them!\n\nThanks\,\n
	ES S2P Team\n_____________________________________________________________
	___________________\nMicrosoft Teams Need help?<https://aka.ms/JoinTeamsMe
	eting?omkt=en-US>\nJoin the meeting now<https://gov.teams.microsoft.us/l/m
	eetup-join/19%3agcch%3ameeting_c10ce775ba3349edbbd65fbb93aa0b70%40thread.v
	2/0?context=%7b%22Tid%22%3a%2203b86c3a-8954-4d19-9522-e464fe9f22ce%22%2c%2
	2Oid%22%3a%22224a609b-d66b-42c8-8cf9-8774832709bf%22%7d>\nMeeting ID: 992 
	606 819 495\nPasscode: KB9Cf9Bp\n________________________________\nFor org
	anizers: Meeting options<https://gov.teams.microsoft.us/meetingOptions/?or
	ganizerId=224a609b-d66b-42c8-8cf9-8774832709bf&tenantId=03b86c3a-8954-4d19
	-9522-e464fe9f22ce&threadId=19_gcch_meeting_c10ce775ba3349edbbd65fbb93aa0b
	70@thread.v2&messageId=0&language=en-US>\nDo not share ITAR or EAR data wi
	th non-US persons without export authorization. Do not share BAE Systems P
	roprietary data with 3rd parties without an NDA. BAE Systems Teams is appr
	oved for CUI/CDI. See full disclaimer at the Legal URL.\nPrivacy and secur
	ity<https://www.baesystems.com/en-us/meeting-disclaimer>\n________________
	________________________________________________________________\n\n
DTEND;TZID="Central Standard Time":20260317T100000
DTSTAMP:20260311T123234Z
DTSTART;TZID="Central Standard Time":20260317T090000
LAST-MODIFIED:20260311T131421Z
LOCATION:Microsoft Teams Meeting
ORGANIZER;CN="ES, S2P Support Team (US)":mailto:S2Psupptm.es@baesystems.us
PRIORITY:5
RRULE:FREQ=WEEKLY;COUNT=10;BYDAY=TU
SEQUENCE:2
SUMMARY;LANGUAGE=en-us:ES ivalua Office Hours
TRANSP:OPAQUE
UID:040000008200E00074C5B7101A82E008000000001099AB7191B0DC01000000000000000
	0100000001D7C29C33AE45943959F9CBEA1BC88AF
X-ALT-DESC;FMTTYPE=text/html:<html xmlns:v="urn:schemas-microsoft-com:vml" 
	xmlns:o="urn:schemas-microsoft-com:office:office" xmlns:w="urn:schemas-mic
	rosoft-com:office:word" xmlns:m="http://schemas.microsoft.com/office/2004/
	12/omml" xmlns="http://www.w3.org/TR/REC-html40"><head><meta http-equiv=Co
	ntent-Type content="text/html\; charset=us-ascii"><meta name=Generator con
	tent="Microsoft Word 15 (filtered medium)"><!--[if !mso]><style>v\\:* {beh
	avior:url(#default#VML)\;}\no\\:* {behavior:url(#default#VML)\;}\nw\\:* {b
	ehavior:url(#default#VML)\;}\n.shape {behavior:url(#default#VML)\;}\n</sty
	le><![endif]--><style><!--\n/* Font Definitions */\n@font-face\n	{font-fam
	ily:"Cambria Math"\;\n	panose-1:2 4 5 3 5 4 6 3 2 4\;}\n@font-face\n	{font
	-family:Aptos\;}\n@font-face\n	{font-family:"Segoe UI"\;\n	panose-1:2 11 5
	 2 4 2 4 2 2 3\;}\n/* Style Definitions */\np.MsoNormal\, li.MsoNormal\, d
	iv.MsoNormal\n	{margin:0in\;\n	font-size:12.0pt\;\n	font-family:"Aptos"\,s
	ans-serif\;\n	mso-ligatures:standardcontextual\;}\na:link\, span.MsoHyperl
	ink\n	{mso-style-priority:99\;\n	color:#467886\;\n	text-decoration:underli
	ne\;}\nspan.EmailStyle18\n	{mso-style-type:personal-compose\;\n	font-famil
	y:"Aptos"\,sans-serif\;\n	color:#515151\;\n	font-weight:normal\;\n	font-st
	yle:normal\;}\nspan.me-email-text\n	{mso-style-name:me-email-text\;}\nspan
	.me-email-text-secondary\n	{mso-style-name:me-email-text-secondary\;}\n.Ms
	oChpDefault\n	{mso-style-type:export-only\;\n	font-size:10.0pt\;\n	mso-lig
	atures:none\;}\n@page WordSection1\n	{size:8.5in 11.0in\;\n	margin:1.0in 1
	.0in 1.0in 1.0in\;}\ndiv.WordSection1\n	{page:WordSection1\;}\n--></style>
	</head><body lang=EN-US link="#467886" vlink="#96607D" style='word-wrap:br
	eak-word'><div class=WordSection1><p class=MsoNormal><span style='font-siz
	e:11.0pt\;color:#515151'>Please join if you have any questions about onboa
	rding your company&#8217\;s profile in ivalua and we&#8217\;ll help you an
	swer them!<o:p></o:p></span></p><p class=MsoNormal><span style='font-size:
	11.0pt\;color:#515151'><o:p>&nbsp\;</o:p></span></p><p class=MsoNormal><sp
	an style='font-size:11.0pt\;color:#515151'>Thanks\,<o:p></o:p></span></p><
	p class=MsoNormal><span style='font-size:11.0pt\;color:#515151'>ES S2P Tea
	m<o:p></o:p></span></p><div><div style='margin-bottom:.25in\;overflow:hidd
	en'><p class=MsoNormal><span style='font-family:"Segoe UI"\,sans-serif\;co
	lor:#242424'>_____________________________________________________________
	___________________</span><span style='font-family:"Segoe UI"\,sans-serif\
	;color:#242424\;mso-ligatures:none'><o:p></o:p></span></p></div><div style
	='margin-bottom:9.0pt'><p class=MsoNormal><span class=me-email-text><b><sp
	an style='font-size:18.0pt\;font-family:"Segoe UI"\,sans-serif\;color:#242
	424'>Microsoft Teams</span></b></span><span style='font-family:"Segoe UI"\
	,sans-serif\;color:#242424'> <a href="https://aka.ms/JoinTeamsMeeting?omkt
	=en-US"><span style='font-size:10.5pt\;color:#5B5FC7'>Need help?</span></a
	> <o:p></o:p></span></p></div><div style='margin-bottom:4.5pt'><p class=Ms
	oNormal><span style='font-family:"Segoe UI"\,sans-serif\;color:#242424'><a
	 href="https://gov.teams.microsoft.us/l/meetup-join/19%3agcch%3ameeting_c1
	0ce775ba3349edbbd65fbb93aa0b70%40thread.v2/0?context=%7b%22Tid%22%3a%2203b
	86c3a-8954-4d19-9522-e464fe9f22ce%22%2c%22Oid%22%3a%22224a609b-d66b-42c8-8
	cf9-8774832709bf%22%7d" target="_blank" title="Meeting join link"><b><span
	 style='font-size:15.0pt\;color:#5B5FC7'>Join the meeting now</span></b></
	a> <o:p></o:p></span></p></div><div style='margin-bottom:4.5pt'><p class=M
	soNormal><span class=me-email-text-secondary><span style='font-size:10.5pt
	\;font-family:"Segoe UI"\,sans-serif\;color:#616161'>Meeting ID: </span></
	span><span class=me-email-text><span style='font-size:10.5pt\;font-family:
	"Segoe UI"\,sans-serif\;color:#242424'>992 606 819 495</span></span><span 
	style='font-family:"Segoe UI"\,sans-serif\;color:#242424'> <o:p></o:p></sp
	an></p></div><div style='margin-bottom:24.0pt'><p class=MsoNormal><span cl
	ass=me-email-text-secondary><span style='font-size:10.5pt\;font-family:"Se
	goe UI"\,sans-serif\;color:#616161'>Passcode: </span></span><span class=me
	-email-text><span style='font-size:10.5pt\;font-family:"Segoe UI"\,sans-se
	rif\;color:#242424'>KB9Cf9Bp</span></span><span style='font-family:"Segoe 
	UI"\,sans-serif\;color:#242424'> <o:p></o:p></span></p></div><div style='m
	argin-bottom:9.0pt'><div class=MsoNormal align=center style='text-align:ce
	nter'><span style='font-family:"Segoe UI"\,sans-serif\;color:#242424'><hr 
	size=1 width="100%" align=center></span></div></div><div><p class=MsoNorma
	l><span class=me-email-text-secondary><span style='font-size:10.5pt\;font-
	family:"Segoe UI"\,sans-serif\;color:#616161'>For organizers: </span></spa
	n><span style='font-family:"Segoe UI"\,sans-serif\;color:#242424'><a href=
	"https://gov.teams.microsoft.us/meetingOptions/?organizerId=224a609b-d66b-
	42c8-8cf9-8774832709bf&amp\;tenantId=03b86c3a-8954-4d19-9522-e464fe9f22ce&
	amp\;threadId=19_gcch_meeting_c10ce775ba3349edbbd65fbb93aa0b70@thread.v2&a
	mp\;messageId=0&amp\;language=en-US" target="_blank"><span style='font-siz
	e:10.5pt\;color:#5B5FC7'>Meeting options</span></a> <o:p></o:p></span></p>
	</div><div style='margin-top:.25in\;margin-bottom:4.5pt'><div><p class=Mso
	Normal><span style='font-size:10.5pt\;font-family:"Segoe UI"\,sans-serif\;
	color:#616161'>Do not share ITAR or EAR data with non-US persons without e
	xport authorization. Do not share BAE Systems Proprietary data with 3rd pa
	rties without an NDA. BAE Systems Teams is approved for CUI/CDI. See full 
	disclaimer at the Legal URL.<o:p></o:p></span></p></div></div><div style='
	margin-bottom:.25in'><p class=MsoNormal><span style='font-family:"Segoe UI
	"\,sans-serif\;color:#242424'><a href="https://www.baesystems.com/en-us/me
	eting-disclaimer" target="_blank"><span style='font-size:10.5pt\;color:#5B
	5FC7'>Privacy and security</span></a> <o:p></o:p></span></p></div><div sty
	le='margin-bottom:.25in\;overflow:hidden'><p class=MsoNormal><span style='
	font-family:"Segoe UI"\,sans-serif\;color:#242424'>_______________________
	_________________________________________________________<o:p></o:p></span
	></p></div></div><p class=MsoNormal><span style='font-size:11.0pt\;color:#
	515151'><o:p>&nbsp\;</o:p></span></p></div></body></html>
X-MICROSOFT-CDO-BUSYSTATUS:BUSY
X-MICROSOFT-CDO-IMPORTANCE:1
X-MICROSOFT-DISALLOW-COUNTER:FALSE
X-MS-OLK-APPTLASTSEQUENCE:2
X-MS-OLK-APPTSEQTIME:20260311T123234Z
X-MS-OLK-AUTOFILLLOCATION:FALSE
X-MS-OLK-CONFTYPE:0
X-MS-OLK-SENDER;CN="Rose, Ryan (US)":mailto:ryan.rose@baesystems.us
BEGIN:VALARM
TRIGGER:-PT15M
ACTION:DISPLAY
DESCRIPTION:Reminder
END:VALARM
END:VEVENT
END:VCALENDAR
