BEGIN:VCALENDAR
PRODID:-//Microsoft Corporation//Outlook 16.0 MIMEDIR//EN
VERSION:2.0
METHOD:REQUEST
X-MS-OLK-FORCEINSPECTOROPEN:TRUE
BEGIN:VTIMEZONE
TZID:Central Standard Time
BEGIN:STANDARD
DTSTART:16011104T020000
RRULE:FREQ=YEARLY;BYDAY=1SU;BYMONTH=11
TZOFFSETFROM:-0500
TZOFFSETTO:-0600
END:STANDARD
BEGIN:DAYLIGHT
DTSTART:16010311T020000
RRULE:FREQ=YEARLY;BYDAY=2SU;BYMONTH=3
TZOFFSETFROM:-0600
TZOFFSETTO:-0500
END:DAYLIGHT
END:VTIMEZONE
BEGIN:VEVENT
ATTENDEE;CN="Rose, Ryan (US)";RSVP=TRUE:mailto:ryan.rose@baesystems.us
ATTENDEE;CN="Wyle, Shari R (US)";RSVP=TRUE:mailto:shari.wyle@baesystems.us
ATTENDEE;CN="Foster, Suzanne (US)";RSVP=TRUE:mailto:suzanne.foster@baesyste
	ms.us
CLASS:PUBLIC
CREATED:20260311T131616Z
DESCRIPTION:Please join if you have any questions about onboarding your com
	pany’s profile in ivalua and we’ll help you answer them!\n\nThanks\,\n
	ES S2P Team\n\n___________________________________________________________
	_____________________\nMicrosoft Teams Need help?<https://aka.ms/JoinTeams
	Meeting?omkt=en-US>\nJoin the meeting now<https://gov.teams.microsoft.us/l
	/meetup-join/19%3agcch%3ameeting_4ee4da1c26dd4bd9a267b42b0eb1c968%40thread
	.v2/0?context=%7b%22Tid%22%3a%2203b86c3a-8954-4d19-9522-e464fe9f22ce%22%2c
	%22Oid%22%3a%22224a609b-d66b-42c8-8cf9-8774832709bf%22%7d>\nMeeting ID: 99
	2 374 342 181\nPasscode: 9Bg3HY97\n________________________________\nFor o
	rganizers: Meeting options<https://gov.teams.microsoft.us/meetingOptions/?
	organizerId=224a609b-d66b-42c8-8cf9-8774832709bf&tenantId=03b86c3a-8954-4d
	19-9522-e464fe9f22ce&threadId=19_gcch_meeting_4ee4da1c26dd4bd9a267b42b0eb1
	c968@thread.v2&messageId=0&language=en-US>\nDo not share ITAR or EAR data 
	with non-US persons without export authorization. Do not share BAE Systems
	 Proprietary data with 3rd parties without an NDA. BAE Systems Teams is ap
	proved for CUI/CDI. See full disclaimer at the Legal URL.\nPrivacy and sec
	urity<https://www.baesystems.com/en-us/meeting-disclaimer>\n______________
	__________________________________________________________________\n\n
DTEND;TZID="Central Standard Time":20260319T150000
DTSTAMP:20260311T123529Z
DTSTART;TZID="Central Standard Time":20260319T140000
LAST-MODIFIED:20260311T131616Z
LOCATION:Microsoft Teams Meeting
ORGANIZER;CN="ES, S2P Support Team (US)":mailto:S2Psupptm.es@baesystems.us
PRIORITY:5
RRULE:FREQ=WEEKLY;COUNT=11;BYDAY=TH
SEQUENCE:1
SUMMARY;LANGUAGE=en-us:ES ivalua Office Hours
TRANSP:OPAQUE
UID:040000008200E00074C5B7101A82E00800000000104CDD5518B1DC01000000000000000
	0100000009EEBCC8F8DCE094E8071151B0B3585A8
X-ALT-DESC;FMTTYPE=text/html:<html xmlns:v="urn:schemas-microsoft-com:vml" 
	xmlns:o="urn:schemas-microsoft-com:office:office" xmlns:w="urn:schemas-mic
	rosoft-com:office:word" xmlns:x="urn:schemas-microsoft-com:office:excel" x
	mlns:m="http://schemas.microsoft.com/office/2004/12/omml" xmlns="http://ww
	w.w3.org/TR/REC-html40"><head><meta http-equiv=Content-Type content="text/
	html\; charset=us-ascii"><meta name=Generator content="Microsoft Word 15 (
	filtered medium)"><!--[if !mso]><style>v\\:* {behavior:url(#default#VML)\;
	}\no\\:* {behavior:url(#default#VML)\;}\nw\\:* {behavior:url(#default#VML)
	\;}\n.shape {behavior:url(#default#VML)\;}\n</style><![endif]--><style><!-
	-\n/* Font Definitions */\n@font-face\n	{font-family:"Cambria Math"\;\n	pa
	nose-1:2 4 5 3 5 4 6 3 2 4\;}\n@font-face\n	{font-family:Aptos\;}\n@font-f
	ace\n	{font-family:"Segoe UI"\;\n	panose-1:2 11 5 2 4 2 4 2 2 3\;}\n/* Sty
	le Definitions */\np.MsoNormal\, li.MsoNormal\, div.MsoNormal\n	{margin:0i
	n\;\n	font-size:12.0pt\;\n	font-family:"Aptos"\,sans-serif\;\n	mso-ligatur
	es:standardcontextual\;}\na:link\, span.MsoHyperlink\n	{mso-style-priority
	:99\;\n	color:#467886\;\n	text-decoration:underline\;}\nspan.EmailStyle18\
	n	{mso-style-type:personal-compose\;\n	font-family:"Aptos"\,sans-serif\;\n
		color:#515151\;\n	font-weight:normal\;\n	font-style:normal\;}\nspan.me-em
	ail-text\n	{mso-style-name:me-email-text\;}\nspan.me-email-text-secondary\
	n	{mso-style-name:me-email-text-secondary\;}\n.MsoChpDefault\n	{mso-style-
	type:export-only\;\n	font-size:10.0pt\;\n	mso-ligatures:none\;}\n@page Wor
	dSection1\n	{size:8.5in 11.0in\;\n	margin:1.0in 1.0in 1.0in 1.0in\;}\ndiv.
	WordSection1\n	{page:WordSection1\;}\n--></style></head><body lang=EN-US l
	ink="#467886" vlink="#96607D" style='word-wrap:break-word'><div class=Word
	Section1><p class=MsoNormal><span style='font-size:11.0pt\;color:#515151'>
	Please join if you have any questions about onboarding your company&#8217\
	;s profile in ivalua and we&#8217\;ll help you answer them!<o:p></o:p></sp
	an></p><p class=MsoNormal><span style='font-size:11.0pt\;color:#515151'><o
	:p>&nbsp\;</o:p></span></p><p class=MsoNormal><span style='font-size:11.0p
	t\;color:#515151'>Thanks\,<o:p></o:p></span></p><p class=MsoNormal><span s
	tyle='font-size:11.0pt\;color:#515151'>ES S2P Team<o:p></o:p></span></p><p
	 class=MsoNormal><span style='font-size:11.0pt\;color:#515151'><o:p>&nbsp\
	;</o:p></span></p><div><div style='margin-bottom:.25in\;overflow:hidden'><
	p class=MsoNormal><span style='font-family:"Segoe UI"\,sans-serif\;color:#
	242424'>__________________________________________________________________
	______________</span><span style='font-family:"Segoe UI"\,sans-serif\;colo
	r:#242424\;mso-ligatures:none'><o:p></o:p></span></p></div><div style='mar
	gin-bottom:9.0pt'><p class=MsoNormal><span class=me-email-text><b><span st
	yle='font-size:18.0pt\;font-family:"Segoe UI"\,sans-serif\;color:#242424'>
	Microsoft Teams</span></b></span><span style='font-family:"Segoe UI"\,sans
	-serif\;color:#242424'> <a href="https://aka.ms/JoinTeamsMeeting?omkt=en-U
	S"><span style='font-size:10.5pt\;color:#5B5FC7'>Need help?</span></a> <o:
	p></o:p></span></p></div><div style='margin-bottom:4.5pt'><p class=MsoNorm
	al><span style='font-family:"Segoe UI"\,sans-serif\;color:#242424'><a href
	="https://gov.teams.microsoft.us/l/meetup-join/19%3agcch%3ameeting_4ee4da1
	c26dd4bd9a267b42b0eb1c968%40thread.v2/0?context=%7b%22Tid%22%3a%2203b86c3a
	-8954-4d19-9522-e464fe9f22ce%22%2c%22Oid%22%3a%22224a609b-d66b-42c8-8cf9-8
	774832709bf%22%7d" target="_blank" title="Meeting join link"><b><span styl
	e='font-size:15.0pt\;color:#5B5FC7'>Join the meeting now</span></b></a> <o
	:p></o:p></span></p></div><div style='margin-bottom:4.5pt'><p class=MsoNor
	mal><span class=me-email-text-secondary><span style='font-size:10.5pt\;fon
	t-family:"Segoe UI"\,sans-serif\;color:#616161'>Meeting ID: </span></span>
	<span class=me-email-text><span style='font-size:10.5pt\;font-family:"Sego
	e UI"\,sans-serif\;color:#242424'>992 374 342 181</span></span><span style
	='font-family:"Segoe UI"\,sans-serif\;color:#242424'> <o:p></o:p></span></
	p></div><div style='margin-bottom:24.0pt'><p class=MsoNormal><span class=m
	e-email-text-secondary><span style='font-size:10.5pt\;font-family:"Segoe U
	I"\,sans-serif\;color:#616161'>Passcode: </span></span><span class=me-emai
	l-text><span style='font-size:10.5pt\;font-family:"Segoe UI"\,sans-serif\;
	color:#242424'>9Bg3HY97</span></span><span style='font-family:"Segoe UI"\,
	sans-serif\;color:#242424'> <o:p></o:p></span></p></div><div style='margin
	-bottom:9.0pt'><div class=MsoNormal align=center style='text-align:center'
	><span style='font-family:"Segoe UI"\,sans-serif\;color:#242424'><hr size=
	1 width="100%" align=center></span></div></div><div><p class=MsoNormal><sp
	an class=me-email-text-secondary><span style='font-size:10.5pt\;font-famil
	y:"Segoe UI"\,sans-serif\;color:#616161'>For organizers: </span></span><sp
	an style='font-family:"Segoe UI"\,sans-serif\;color:#242424'><a href="http
	s://gov.teams.microsoft.us/meetingOptions/?organizerId=224a609b-d66b-42c8-
	8cf9-8774832709bf&amp\;tenantId=03b86c3a-8954-4d19-9522-e464fe9f22ce&amp\;
	threadId=19_gcch_meeting_4ee4da1c26dd4bd9a267b42b0eb1c968@thread.v2&amp\;m
	essageId=0&amp\;language=en-US" target="_blank"><span style='font-size:10.
	5pt\;color:#5B5FC7'>Meeting options</span></a> <o:p></o:p></span></p></div
	><div style='margin-top:.25in\;margin-bottom:4.5pt'><div><p class=MsoNorma
	l><span style='font-size:10.5pt\;font-family:"Segoe UI"\,sans-serif\;color
	:#616161'>Do not share ITAR or EAR data with non-US persons without export
	 authorization. Do not share BAE Systems Proprietary data with 3rd parties
	 without an NDA. BAE Systems Teams is approved for CUI/CDI. See full discl
	aimer at the Legal URL.<o:p></o:p></span></p></div></div><div style='margi
	n-bottom:.25in'><p class=MsoNormal><span style='font-family:"Segoe UI"\,sa
	ns-serif\;color:#242424'><a href="https://www.baesystems.com/en-us/meeting
	-disclaimer" target="_blank"><span style='font-size:10.5pt\;color:#5B5FC7'
	>Privacy and security</span></a> <o:p></o:p></span></p></div><div style='m
	argin-bottom:.25in\;overflow:hidden'><p class=MsoNormal><span style='font-
	family:"Segoe UI"\,sans-serif\;color:#242424'>____________________________
	____________________________________________________<o:p></o:p></span></p>
	</div></div><p class=MsoNormal><span style='font-size:11.0pt\;color:#51515
	1'><o:p>&nbsp\;</o:p></span></p></div></body></html>
X-MICROSOFT-CDO-BUSYSTATUS:BUSY
X-MICROSOFT-CDO-IMPORTANCE:1
X-MICROSOFT-DISALLOW-COUNTER:FALSE
X-MS-OLK-APPTLASTSEQUENCE:1
X-MS-OLK-APPTSEQTIME:20260311T123529Z
X-MS-OLK-AUTOFILLLOCATION:FALSE
X-MS-OLK-CONFTYPE:0
X-MS-OLK-SENDER;CN="Rose, Ryan (US)":mailto:ryan.rose@baesystems.us
BEGIN:VALARM
TRIGGER:-PT15M
ACTION:DISPLAY
DESCRIPTION:Reminder
END:VALARM
END:VEVENT
END:VCALENDAR
